BEGIN:VCALENDAR
VERSION:2.0
PRODID:-//Uudenkaupungin Teollisuustyöntekijät ry - ECPv6.15.20//NONSGML v1.0//EN
CALSCALE:GREGORIAN
METHOD:PUBLISH
X-WR-CALNAME:Uudenkaupungin Teollisuustyöntekijät ry
X-ORIGINAL-URL:https://teollisuus268.fi/en/
X-WR-CALDESC:Events for Uudenkaupungin Teollisuustyöntekijät ry
REFRESH-INTERVAL;VALUE=DURATION:PT1H
X-Robots-Tag:noindex
X-PUBLISHED-TTL:PT1H
BEGIN:VTIMEZONE
TZID:Europe/Helsinki
BEGIN:DAYLIGHT
TZOFFSETFROM:+0200
TZOFFSETTO:+0300
TZNAME:EEST
DTSTART:20220327T010000
END:DAYLIGHT
BEGIN:STANDARD
TZOFFSETFROM:+0300
TZOFFSETTO:+0200
TZNAME:EET
DTSTART:20221030T010000
END:STANDARD
BEGIN:DAYLIGHT
TZOFFSETFROM:+0200
TZOFFSETTO:+0300
TZNAME:EEST
DTSTART:20230326T010000
END:DAYLIGHT
BEGIN:STANDARD
TZOFFSETFROM:+0300
TZOFFSETTO:+0200
TZNAME:EET
DTSTART:20231029T010000
END:STANDARD
BEGIN:DAYLIGHT
TZOFFSETFROM:+0200
TZOFFSETTO:+0300
TZNAME:EEST
DTSTART:20240331T010000
END:DAYLIGHT
BEGIN:STANDARD
TZOFFSETFROM:+0300
TZOFFSETTO:+0200
TZNAME:EET
DTSTART:20241027T010000
END:STANDARD
END:VTIMEZONE
BEGIN:VEVENT
DTSTART;VALUE=DATE:20230909
DTEND;VALUE=DATE:20230911
DTSTAMP:20260421T011203
CREATED:20230419T120454Z
LAST-MODIFIED:20230419T120454Z
UID:1455-1694217600-1694390399@teollisuus268.fi
SUMMARY:INDUSTRIAL UNION MEMBER CRUISE
DESCRIPTION:FIRST 48\nDeductible price 30€ which includes: \n\nBus transport by Uusikaupunki 15:30 and back\nThe cruise 4 person / cabin\nBuffet-supper 9.9. kello 21.30\nBuffet-breakfast 10.9.\n\nNorm. price 80 €/person\, which we can charge for cancellation without a valid reason.\nTHE CABINS SOLD only 4 person / cabin! – if there are no cabin mates\, we will raffle friends. \nRegister and pay no later than 29.05. Account number FI90 5491 0220 1009 16\n0440233510 / toimisto@teollisuus268.fi
URL:https://teollisuus268.fi/en/tapahtuma/industrial-union-member-cruise/
END:VEVENT
END:VCALENDAR