BEGIN:VCALENDAR
VERSION:2.0
PRODID:-//Uudenkaupungin Teollisuustyöntekijät ry - ECPv6.15.20//NONSGML v1.0//EN
CALSCALE:GREGORIAN
METHOD:PUBLISH
X-WR-CALNAME:Uudenkaupungin Teollisuustyöntekijät ry
X-ORIGINAL-URL:https://teollisuus268.fi/en/
X-WR-CALDESC:Events for Uudenkaupungin Teollisuustyöntekijät ry
REFRESH-INTERVAL;VALUE=DURATION:PT1H
X-Robots-Tag:noindex
X-PUBLISHED-TTL:PT1H
BEGIN:VTIMEZONE
TZID:Europe/Helsinki
BEGIN:DAYLIGHT
TZOFFSETFROM:+0200
TZOFFSETTO:+0300
TZNAME:EEST
DTSTART:20220327T010000
END:DAYLIGHT
BEGIN:STANDARD
TZOFFSETFROM:+0300
TZOFFSETTO:+0200
TZNAME:EET
DTSTART:20221030T010000
END:STANDARD
BEGIN:DAYLIGHT
TZOFFSETFROM:+0200
TZOFFSETTO:+0300
TZNAME:EEST
DTSTART:20230326T010000
END:DAYLIGHT
BEGIN:STANDARD
TZOFFSETFROM:+0300
TZOFFSETTO:+0200
TZNAME:EET
DTSTART:20231029T010000
END:STANDARD
BEGIN:DAYLIGHT
TZOFFSETFROM:+0200
TZOFFSETTO:+0300
TZNAME:EEST
DTSTART:20240331T010000
END:DAYLIGHT
BEGIN:STANDARD
TZOFFSETFROM:+0300
TZOFFSETTO:+0200
TZNAME:EET
DTSTART:20241027T010000
END:STANDARD
END:VTIMEZONE
BEGIN:VEVENT
DTSTART;TZID=Europe/Helsinki:20231217T130000
DTEND;TZID=Europe/Helsinki:20231217T130000
DTSTAMP:20260420T170413
CREATED:20231122T141343Z
LAST-MODIFIED:20231122T141343Z
UID:1573-1702818000-1702818000@teollisuus268.fi
SUMMARY:Movie night in Kuvala
DESCRIPTION:AO 268 offers its member’s kids a movie 1€ / kid \nMax 1 parent / family + 5€ \nIn Kuvala sunday 17.12. at 1 PM \nFor first 70! \nFor the kids we offer popcorn\, juice and little suprise bag. \nRegistrations before 8.12. at 4 PM\, tel. 0440 233 510. Please let us know about food restrictions. \nPayment to account  FI90 5491 0220  1009 16 when you have registered.
URL:https://teollisuus268.fi/en/tapahtuma/movie-night-in-kuvala/
LOCATION:Elokuvateatteri Kuvala\, Alinenkatu 16\, Uusikaupunki\, 23500
END:VEVENT
END:VCALENDAR